BEGIN:VCALENDAR
VERSION:2.0
PRODID:-//TransSober - ECPv6.15.20//NONSGML v1.0//EN
CALSCALE:GREGORIAN
METHOD:PUBLISH
X-WR-CALNAME:TransSober
X-ORIGINAL-URL:https://transsober.org
X-WR-CALDESC:Events for TransSober
REFRESH-INTERVAL;VALUE=DURATION:PT1H
X-Robots-Tag:noindex
X-PUBLISHED-TTL:PT1H
BEGIN:VTIMEZONE
TZID:Europe/London
BEGIN:DAYLIGHT
TZOFFSETFROM:+0000
TZOFFSETTO:+0100
TZNAME:BST
DTSTART:20230326T010000
END:DAYLIGHT
BEGIN:STANDARD
TZOFFSETFROM:+0100
TZOFFSETTO:+0000
TZNAME:GMT
DTSTART:20231029T010000
END:STANDARD
BEGIN:DAYLIGHT
TZOFFSETFROM:+0000
TZOFFSETTO:+0100
TZNAME:BST
DTSTART:20240331T010000
END:DAYLIGHT
BEGIN:STANDARD
TZOFFSETFROM:+0100
TZOFFSETTO:+0000
TZNAME:GMT
DTSTART:20241027T010000
END:STANDARD
BEGIN:DAYLIGHT
TZOFFSETFROM:+0000
TZOFFSETTO:+0100
TZNAME:BST
DTSTART:20250330T010000
END:DAYLIGHT
BEGIN:STANDARD
TZOFFSETFROM:+0100
TZOFFSETTO:+0000
TZNAME:GMT
DTSTART:20251026T010000
END:STANDARD
END:VTIMEZONE
BEGIN:VEVENT
DTSTART;TZID=Europe/London:20241211T191500
DTEND;TZID=Europe/London:20241211T211500
DTSTAMP:20260420T090447
CREATED:20241201T172055Z
LAST-MODIFIED:20241201T172436Z
UID:10001604-1733944500-1733951700@transsober.org
SUMMARY:Zine & Collage Workshop
DESCRIPTION:Get creative with Az Franco at our Sober Zine & Collage making – no alcohol required! \nBringing together the trans sober community for these one off zine & collage making workshops\, Az Franco (he/him) will be holding non-judgmental and inclusive space for community and creativity in affiliation with Trans Sober at Cornerstone in Brighton. \nReconnecting to the inner child and healing through different creative practices\, these workshops will allow you to let go of the outside world and immerse yourself in your artistic nature\, alongside a group of likeminded people. All resources and tutorials provided. Find out more about Az via his instagram @youcancallmeaz and the current workshops he runs through his community project @creativehealingwithaz. \nDate: Wednesday 11th December 2024 \nTickets (free):  Register here\nRegister here for FREE\n \nVenue: https://cornerstonecommunitycentre.com/ \nCornerstone Community Centre\,\nChurch Road\, Hove\, East Sussex BN3 2FL \n    \nShare this:
URL:https://transsober.org/event/zine-collage-workshop/
LOCATION:Cornerstone Community Centre\, St John the Baptists Church\, Church Road\, Brighton\, East Sussex\, BN3 2FL\, United Kingdom
CATEGORIES:Sober Socials
ATTACH;FMTTYPE=image/jpeg:https://transsober.org/wp-content/uploads/2024/12/Event-banner-Zine-Collage.jpg
ORGANIZER;CN="TransSober":MAILTO:info@transsober.org
END:VEVENT
END:VCALENDAR