BEGIN:VCALENDAR
VERSION:2.0
PRODID:-//TransSober - ECPv6.15.20//NONSGML v1.0//EN
CALSCALE:GREGORIAN
METHOD:PUBLISH
X-WR-CALNAME:TransSober
X-ORIGINAL-URL:https://transsober.org
X-WR-CALDESC:Events for TransSober
REFRESH-INTERVAL;VALUE=DURATION:PT1H
X-Robots-Tag:noindex
X-PUBLISHED-TTL:PT1H
BEGIN:VTIMEZONE
TZID:Europe/London
BEGIN:DAYLIGHT
TZOFFSETFROM:+0000
TZOFFSETTO:+0100
TZNAME:BST
DTSTART:20230326T010000
END:DAYLIGHT
BEGIN:STANDARD
TZOFFSETFROM:+0100
TZOFFSETTO:+0000
TZNAME:GMT
DTSTART:20231029T010000
END:STANDARD
BEGIN:DAYLIGHT
TZOFFSETFROM:+0000
TZOFFSETTO:+0100
TZNAME:BST
DTSTART:20240331T010000
END:DAYLIGHT
BEGIN:STANDARD
TZOFFSETFROM:+0100
TZOFFSETTO:+0000
TZNAME:GMT
DTSTART:20241027T010000
END:STANDARD
BEGIN:DAYLIGHT
TZOFFSETFROM:+0000
TZOFFSETTO:+0100
TZNAME:BST
DTSTART:20250330T010000
END:DAYLIGHT
BEGIN:STANDARD
TZOFFSETFROM:+0100
TZOFFSETTO:+0000
TZNAME:GMT
DTSTART:20251026T010000
END:STANDARD
END:VTIMEZONE
BEGIN:VEVENT
DTSTART;TZID=Europe/London:20241215T100000
DTEND;TZID=Europe/London:20241215T173000
DTSTAMP:20260420T091817
CREATED:20241201T174609Z
LAST-MODIFIED:20241209T130450Z
UID:10001605-1734256800-1734283800@transsober.org
SUMMARY:SOLD OUT! TransSober Alcohol Free Community Christmas Dinner 2024
DESCRIPTION:SOLD OUT!\nCome join us for a chill Christmas dinner with the TransSober community – no alcohol\, just good vibes and good food! \nRegister free here: Register Here\nRegister Free Here\n \nDate: Sunday 15th December\nVenue: The Community Kitchen\, 113 Queens Road\, Brighton BN1 3XG \nWelcome to the TransSober Alcohol Free Community Christmas Dinner! \nJoin us for a festive and inclusive celebration on Sun\, Dec 15\, 2024 at The Community Kitchen. Let’s come together to enjoy delicious food\, good company\, and holiday cheer. This event is open to all members of the community looking to enjoy some alcohol free festive fun. TransSober is all about coming together\, sharing stories\,fun\, laughter and spreading joy. Don’t miss out on this special gathering – Let’s create lasting alcohol free memories ! \nYou can come and help us cook\, or just come along and enjoy the festive food fun and laughter: \n\nChristmas Dinner with all the trimmings\nMeat\, Vegan and Gluten-Free options\n\nCooking starts at 10am if you’re helping out.  If you’re just coming for the meal\, please arrive around 1.30pm. \nAs always with TransSober events\, this is completely free however donations are welcome! \nIf you have any allergies please email events@transsober.org \nShare this:
URL:https://transsober.org/event/transsober-alcohol-free-community-christmas-dinner-2024/
LOCATION:The Community Kitchen\, 113 Queens Road\, Brighton\, Brighton & Hove\, BN1 3XG\, United Kingdom
CATEGORIES:Sober Socials
ATTACH;FMTTYPE=image/jpeg:https://transsober.org/wp-content/uploads/2024/12/Event-banner-Xmas-2024.jpg
ORGANIZER;CN="TransSober":MAILTO:info@transsober.org
END:VEVENT
END:VCALENDAR