BEGIN:VCALENDAR
VERSION:2.0
PRODID:-//TransSober - ECPv6.15.20//NONSGML v1.0//EN
CALSCALE:GREGORIAN
METHOD:PUBLISH
X-WR-CALNAME:TransSober
X-ORIGINAL-URL:https://transsober.org
X-WR-CALDESC:Events for TransSober
REFRESH-INTERVAL;VALUE=DURATION:PT1H
X-Robots-Tag:noindex
X-PUBLISHED-TTL:PT1H
BEGIN:VTIMEZONE
TZID:Europe/London
BEGIN:DAYLIGHT
TZOFFSETFROM:+0000
TZOFFSETTO:+0100
TZNAME:BST
DTSTART:20240331T010000
END:DAYLIGHT
BEGIN:STANDARD
TZOFFSETFROM:+0100
TZOFFSETTO:+0000
TZNAME:GMT
DTSTART:20241027T010000
END:STANDARD
BEGIN:DAYLIGHT
TZOFFSETFROM:+0000
TZOFFSETTO:+0100
TZNAME:BST
DTSTART:20250330T010000
END:DAYLIGHT
BEGIN:STANDARD
TZOFFSETFROM:+0100
TZOFFSETTO:+0000
TZNAME:GMT
DTSTART:20251026T010000
END:STANDARD
BEGIN:DAYLIGHT
TZOFFSETFROM:+0000
TZOFFSETTO:+0100
TZNAME:BST
DTSTART:20260329T010000
END:DAYLIGHT
BEGIN:STANDARD
TZOFFSETFROM:+0100
TZOFFSETTO:+0000
TZNAME:GMT
DTSTART:20261025T010000
END:STANDARD
END:VTIMEZONE
BEGIN:VEVENT
DTSTART;TZID=Europe/London:20250112T140000
DTEND;TZID=Europe/London:20250112T170000
DTSTAMP:20260420T104016
CREATED:20241215T175339Z
LAST-MODIFIED:20241215T175757Z
UID:10001611-1736690400-1736701200@transsober.org
SUMMARY:Rhythm Retreat 2 - TNBI / Genderqueer Sober day clubbing experience
DESCRIPTION:“Rhythm Retreat 2” TBNI / Genderqueer and friends\, sober clubbing | Free to attend or Donation very welcomed\nCome join us for a unique and inclusive event “Rhythm Retreat“with DJ Xzan (co-founder of Gal Pals) with good vibes! Our genderqueer and friends\, sober day clubbing event is happening again Sunday 14th Jaunary 2025 – 2-5pm \nVENUE:   Komedia Studio 44-47 Gardner Street\, Brighton and Hove\, BN1 1UN \nRegister for FREE tickets here:\nREGISTER FREE NOW\nWhy not Retreat from the drugs & alcohol and join us to get high on the Rhythm of bangin’ club tunes \n\nClub GoGo Dancers Prince of Persia and MIZ LEXIA\nFace Painting & Glitter ((biodegradable)\nMocktails\n\nGet ready to dance\, connect\, and celebrate with a diverse SOBER community of like-minded Gender Queer individuals and their friends! \nWe believe in the power of music to unite and heal\, so leave your worries behind and let the beats guide you. Our Genderqueer sober clubbing experience ensures a fun and vibrant atmosphere without the need for alcohol or substances. \nCome as you are\, express yourself freely\, and make new connections. Together\, we’ll create unforgettable memories and celebrate the beauty of diversity. \nThere will be club dancers /face painting /mocktails and loads of sober free fun! \nMark your calendar and don’t miss out on this incredible event! \nThis is an over 18s only event    |    The Venue is fully accessible \nIf you are unable to attend please cancel your ticket or let us know\, so it can be given to someone else\, TransSober understand people can’t always make events however\, we do lose a lot of money from people not turning up and no notifying us\, \nMake a Donation alongside your free tickets (suggested £5 to £15) \nRhythm Retreat and TransSober\, are community organisations run by volunteers with limited funding . We would extremely grateful if you’re able to make a donation when getting you free your ticket to help us keep all our sober socials and drug & alcohol support services free of charge to attend.   We recommend friend’s get a donation ticket if possible to help support the gender queer community\, Friends are more than welcome to attend. \nSuggested donation £5 to £15 however\, realistically whatever you can afford every penny helps support TransSober and to put on events like this. \nWe also insure everyone involved in hosting our event is paid such as DJ/ Dancers etc \nHow to make a donation without getting a ticket would like to donate via our website https://transsober.org/donate/ \n    \nShare this:
URL:https://transsober.org/event/rhythm-retreat-2-tnbi-genderqueer-sober-day-clubbing-experience/
LOCATION:Komedia Brighton\, 44-47 Gardner Street\, Brighton\, Brighton and Hove\, BN1 1UN\, United Kingdom
CATEGORIES:Sober Socials
ATTACH;FMTTYPE=image/jpeg:https://transsober.org/wp-content/uploads/2024/12/Rhythm-Retreat-2025-EB-banner.jpg
ORGANIZER;CN="TransSober":MAILTO:info@transsober.org
END:VEVENT
END:VCALENDAR