BEGIN:VCALENDAR
VERSION:2.0
PRODID:-//TransSober - ECPv6.15.20//NONSGML v1.0//EN
CALSCALE:GREGORIAN
METHOD:PUBLISH
X-ORIGINAL-URL:https://transsober.org
X-WR-CALDESC:Events for TransSober
REFRESH-INTERVAL;VALUE=DURATION:PT1H
X-Robots-Tag:noindex
X-PUBLISHED-TTL:PT1H
BEGIN:VTIMEZONE
TZID:Europe/London
BEGIN:DAYLIGHT
TZOFFSETFROM:+0000
TZOFFSETTO:+0100
TZNAME:BST
DTSTART:20240331T010000
END:DAYLIGHT
BEGIN:STANDARD
TZOFFSETFROM:+0100
TZOFFSETTO:+0000
TZNAME:GMT
DTSTART:20241027T010000
END:STANDARD
BEGIN:DAYLIGHT
TZOFFSETFROM:+0000
TZOFFSETTO:+0100
TZNAME:BST
DTSTART:20250330T010000
END:DAYLIGHT
BEGIN:STANDARD
TZOFFSETFROM:+0100
TZOFFSETTO:+0000
TZNAME:GMT
DTSTART:20251026T010000
END:STANDARD
BEGIN:DAYLIGHT
TZOFFSETFROM:+0000
TZOFFSETTO:+0100
TZNAME:BST
DTSTART:20260329T010000
END:DAYLIGHT
BEGIN:STANDARD
TZOFFSETFROM:+0100
TZOFFSETTO:+0000
TZNAME:GMT
DTSTART:20261025T010000
END:STANDARD
END:VTIMEZONE
BEGIN:VEVENT
DTSTART;TZID=Europe/London:20250222T150000
DTEND;TZID=Europe/London:20250222T160000
DTSTAMP:20260420T130308
CREATED:20250117T185624Z
LAST-MODIFIED:20250117T185624Z
UID:10001612-1740236400-1740240000@transsober.org
SUMMARY:Sound Bath with Ehrlich (SOLD OUT)
DESCRIPTION:Join us for a rejuvenating Sound Bath with sound healer Ehrlich!\nExperience the blissful healing power of sound at this unique event taking place at 3pm on Saturday 22nd February 2025 at Cornerstone Community Centre\, Church Road\, Brighton and Hove\, BN3 2FL. \nImmerse yourself in a tranquil environment as Ehrlich\, a renowned sound healer\, guides you through a sonic journey like no other. Through the resonance of Tibetan sound bowls\, you’ll be transported to a state of deep relaxation and inner harmony. During the session\, allow the soothing vibrations to wash over you\, releasing tension\, reducing stress\, and promoting a sense of well-being. The sound waves will gently penetrate your mind\, body and spirit\, promoting balance and rejuvenation. \nNo prior experience is necessary; simply come along as you are and surrender to the healing sounds of the Singing Bowls. Come with an open mind and be prepared to leave feeling refreshed\, recharged\, and renewed. Spaces are limited\, so be sure to secure your free spot in advance. Don’t miss this opportunity to embark on a transformative journey with Ehrlich and discover the profound benefits of sound healing.  Click below to book your place today! \nSOLD OUT!!\nJOIN WAITLIST \n  \n \n\n\n\n\nHello\, my name is Ehrlich\, and I practice yoga\, reiki\, and sound healing. I use Tibetan singing bowls for sound bath sessions. Sound bath is a practice that uses sound vibration to promote healing by cleansing the energy of the body. The participant is expected to lay still in a comfortable position while the singing bowls are played. It may be expected that a sense of calm and relaxation will be felt after the practice. \n \n \n\n\nShare this:
URL:https://transsober.org/event/sound-bath-with-ehrlich-sold-out/
LOCATION:Cornerstone Community Centre\, St John the Baptists Church\, Church Road\, Brighton\, East Sussex\, BN3 2FL\, United Kingdom
CATEGORIES:Sober Socials
ATTACH;FMTTYPE=image/jpeg:https://transsober.org/wp-content/uploads/2023/11/Event-banner-Sound-Bath-1.jpg
ORGANIZER;CN="TransSober":MAILTO:info@transsober.org
END:VEVENT
END:VCALENDAR