BEGIN:VCALENDAR
VERSION:2.0
PRODID:-//TransSober - ECPv6.15.20//NONSGML v1.0//EN
CALSCALE:GREGORIAN
METHOD:PUBLISH
X-ORIGINAL-URL:https://transsober.org
X-WR-CALDESC:Events for TransSober
REFRESH-INTERVAL;VALUE=DURATION:PT1H
X-Robots-Tag:noindex
X-PUBLISHED-TTL:PT1H
BEGIN:VTIMEZONE
TZID:Europe/London
BEGIN:DAYLIGHT
TZOFFSETFROM:+0000
TZOFFSETTO:+0100
TZNAME:BST
DTSTART:20240331T010000
END:DAYLIGHT
BEGIN:STANDARD
TZOFFSETFROM:+0100
TZOFFSETTO:+0000
TZNAME:GMT
DTSTART:20241027T010000
END:STANDARD
BEGIN:DAYLIGHT
TZOFFSETFROM:+0000
TZOFFSETTO:+0100
TZNAME:BST
DTSTART:20250330T010000
END:DAYLIGHT
BEGIN:STANDARD
TZOFFSETFROM:+0100
TZOFFSETTO:+0000
TZNAME:GMT
DTSTART:20251026T010000
END:STANDARD
BEGIN:DAYLIGHT
TZOFFSETFROM:+0000
TZOFFSETTO:+0100
TZNAME:BST
DTSTART:20260329T010000
END:DAYLIGHT
BEGIN:STANDARD
TZOFFSETFROM:+0100
TZOFFSETTO:+0000
TZNAME:GMT
DTSTART:20261025T010000
END:STANDARD
END:VTIMEZONE
BEGIN:VEVENT
DTSTART;TZID=Europe/London:20251214T100000
DTEND;TZID=Europe/London:20251214T170000
DTSTAMP:20260425T111624
CREATED:20251027T030022Z
LAST-MODIFIED:20251027T030053Z
UID:10001616-1765706400-1765731600@transsober.org
SUMMARY:TransSober community alcohol free Christmas dinner
DESCRIPTION:🎄 TransSober Drug & Alcohol-Free Community Christmas Dinner – Year 3! 🎄\nWe’re thrilled to welcome you back for the third annual TransSober Drug & Alcohol-Free Christmas Dinner – a festive\, inclusive celebration for everyone in our community Trans + gender queer community 📅 \nDate:Sunday\, December 14th\nLocation: The Community Kitchen Brighton\nCost: Free (donations welcome)Join us for a celebration filled with delicious food\, joyful company\, and festive cheer – all in a warm\, drug and alcohol-free environment.  There are two ways to take part: \n\nYou’re welcome to help us cook and prepare the meal\, then join in the dining and celebrations.\nor you can simply come along to enjoy the festive meal and good company.\n\nPlease note: You only need one ticket—either a free ticket or a donation ticket. You do not need both.\nIf you’re coming to help cook and prepare the meal\, please arrive from 10:15 AM.\nIf you’re just coming to enjoy the meal\, you’re welcome to arrive from 1:00 PM.\nWe aim to start eating around 1:30 PM. \nRegister Free here\n  \nWhat to Expect: \n\nA full Christmas dinner with all the trimmings\nOptions for meat\, vegan\, and gluten-free diets\nLaughter\, connection\, and community spirit\nA safe and welcoming space for all Trans + Gender Queers\n\nThis event is open to anyone from the trans+ gender queer community\, as we know how difficult it can be to find festive events that are drug and alcohol-free. TransSober is all about coming together\, and creating joyful sober memories in a space that supports wellness and belonging. \nImportant Notes: \n\nWhile the event is free\, donations are appreciated to help us continue offering these events.\nThis event has previously been fully booked with a waiting list\, so it’s vitally important that you let us know if you’re unable to attend. We want to avoid wasting food and ensure everyone who wants to join has the chance.\nPlease only book a ticket if you’re sure you can attend. If your plans change\, let us know so we can offer your spot to someone else. Every seat matters\, especially when food is being prepared!\nTransSober events are run entirely by volunteers\, and your consideration helps us make the most of our resources.\nIf you have any food allergies or dietary concerns\, please email us at events@transsober.org.\nIf your chosen meal option meat or vegan is unavailable\, please don’t hesitate to contact us. We’ll be happy to sort it out for you.\n\nLet’s make this festive season special – full of warmth\, laughter\, and drug and alcohol-free joy. We can’t wait to celebrate with you! \nShare this:
URL:https://transsober.org/event/transsober-community-alcohol-free-christmas-dinner/
LOCATION:The Community Kitchen\, 113 Queens Road\, Brighton\, Brighton & Hove\, BN1 3XG\, United Kingdom
CATEGORIES:Sober Socials
ATTACH;FMTTYPE=image/jpeg:https://transsober.org/wp-content/uploads/2025/10/Event-banner-christmas-dinner-2025.jpg
ORGANIZER;CN="TransSober":MAILTO:info@transsober.org
END:VEVENT
END:VCALENDAR