BEGIN:VCALENDAR
VERSION:2.0
PRODID:-//TransSober - ECPv6.15.20//NONSGML v1.0//EN
CALSCALE:GREGORIAN
METHOD:PUBLISH
X-WR-CALNAME:TransSober
X-ORIGINAL-URL:https://transsober.org
X-WR-CALDESC:Events for TransSober
REFRESH-INTERVAL;VALUE=DURATION:PT1H
X-Robots-Tag:noindex
X-PUBLISHED-TTL:PT1H
BEGIN:VTIMEZONE
TZID:Europe/London
BEGIN:DAYLIGHT
TZOFFSETFROM:+0000
TZOFFSETTO:+0100
TZNAME:BST
DTSTART:20220327T010000
END:DAYLIGHT
BEGIN:STANDARD
TZOFFSETFROM:+0100
TZOFFSETTO:+0000
TZNAME:GMT
DTSTART:20221030T010000
END:STANDARD
BEGIN:DAYLIGHT
TZOFFSETFROM:+0000
TZOFFSETTO:+0100
TZNAME:BST
DTSTART:20230326T010000
END:DAYLIGHT
BEGIN:STANDARD
TZOFFSETFROM:+0100
TZOFFSETTO:+0000
TZNAME:GMT
DTSTART:20231029T010000
END:STANDARD
BEGIN:DAYLIGHT
TZOFFSETFROM:+0000
TZOFFSETTO:+0100
TZNAME:BST
DTSTART:20240331T010000
END:DAYLIGHT
BEGIN:STANDARD
TZOFFSETFROM:+0100
TZOFFSETTO:+0000
TZNAME:GMT
DTSTART:20241027T010000
END:STANDARD
BEGIN:DAYLIGHT
TZOFFSETFROM:+0000
TZOFFSETTO:+0100
TZNAME:BST
DTSTART:20250330T010000
END:DAYLIGHT
BEGIN:STANDARD
TZOFFSETFROM:+0100
TZOFFSETTO:+0000
TZNAME:GMT
DTSTART:20251026T010000
END:STANDARD
END:VTIMEZONE
BEGIN:VEVENT
DTSTART;VALUE=DATE:20240705
DTEND;VALUE=DATE:20240820
DTSTAMP:20260422T202805
CREATED:20240718T142851Z
LAST-MODIFIED:20240718T143025Z
UID:10001457-1720137600-1724111999@transsober.org
SUMMARY:Expression Through Freedom: Trans+ Sober Realities - free art exhibition
DESCRIPTION:Expression Through Freedom: Trans+ Sober Realities – free art exhibition\n‘Expression Through Freedom : Trans+ Sober Realities’ is dedicated to exploring and celebrating the journeys of sobriety within the trans+ community. By sharing our stories\, we hope to raise awareness of drug and alcohol use within our community and how it affects our lives experience. \nThe exhibition is presented by @transsober\, a local community initiative set up to support Trans+ people with their substance use experiences. Finding a space that you feel comfortable and safe when you’re trans or non-binary is difficult enough but it is especially hard when it comes to peer support groups. \nTransSober was created to fill this gap and ensure the TNBI community gain the peer support they need around drug and alcohol use.\nWithin this shared space you will encounter powerful narratives from trans+ individuals. Stories are a testament to resilience\, courage and the transformative power of support and self care. \nIf you can’t make it down in person\, you can support us by buying our T-shirt or heading straight to the @transsober website to read more about how to get involved. \nThe artists are all incredible and their work is available to see in person until August 19th at the Ledward Centre in Brighton\, UK 🏳️‍⚧️🌱 \n@transsoberexhibition \n   \nShare this:
URL:https://transsober.org/event/expression-through-freedom-trans-sober-realities-free-art-exhibition/
LOCATION:The Ledward Centre\, 14a Jubilee Street\, Brighton\, East Sussex\, BN1 1GE\, United Kingdom
ATTACH;FMTTYPE=image/jpeg:https://transsober.org/wp-content/uploads/2024/07/Event-banner-Expression-thru-Freedom.jpg
ORGANIZER;CN="TransSober":MAILTO:info@transsober.org
END:VEVENT
BEGIN:VEVENT
DTSTART;TZID=Europe/London:20230915T190000
DTEND;TZID=Europe/London:20230915T210000
DTSTAMP:20260422T202805
CREATED:20230816T013623Z
LAST-MODIFIED:20230816T014010Z
UID:10001391-1694804400-1694811600@transsober.org
SUMMARY:Zine making workshop
DESCRIPTION:Zine making workshops. We have teamed up with the amazingly talented Az Franco to explore some of the deeper feelings we experience we have and channeling them through creative process. \nWorkshop dates:\nFriday 18th August 7-9pm\nFriday 1st September 7-9pm\nFriday 15th September  7-9pm \nFollow Az Franco on Instagram: https://www.instagram.com/youcancallmeaz \nShare this:
URL:https://transsober.org/event/zine-making-workshop/2023-09-15/
LOCATION:The Ledward Centre\, 14a Jubilee Street\, Brighton\, East Sussex\, BN1 1GE\, United Kingdom
ATTACH;FMTTYPE=image/jpeg:https://transsober.org/wp-content/uploads/2023/08/Event-banner-zine-workshops.jpg
ORGANIZER;CN="TransSober":MAILTO:info@transsober.org
END:VEVENT
BEGIN:VEVENT
DTSTART;TZID=Europe/London:20230901T190000
DTEND;TZID=Europe/London:20230901T210000
DTSTAMP:20260422T202805
CREATED:20230816T013623Z
LAST-MODIFIED:20230816T014010Z
UID:10001390-1693594800-1693602000@transsober.org
SUMMARY:Zine making workshop
DESCRIPTION:Zine making workshops. We have teamed up with the amazingly talented Az Franco to explore some of the deeper feelings we experience we have and channeling them through creative process. \nWorkshop dates:\nFriday 18th August 7-9pm\nFriday 1st September 7-9pm\nFriday 15th September  7-9pm \nFollow Az Franco on Instagram: https://www.instagram.com/youcancallmeaz \nShare this:
URL:https://transsober.org/event/zine-making-workshop/2023-09-01/
LOCATION:The Ledward Centre\, 14a Jubilee Street\, Brighton\, East Sussex\, BN1 1GE\, United Kingdom
ATTACH;FMTTYPE=image/jpeg:https://transsober.org/wp-content/uploads/2023/08/Event-banner-zine-workshops.jpg
ORGANIZER;CN="TransSober":MAILTO:info@transsober.org
END:VEVENT
BEGIN:VEVENT
DTSTART;TZID=Europe/London:20230818T190000
DTEND;TZID=Europe/London:20230818T210000
DTSTAMP:20260422T202805
CREATED:20230816T013623Z
LAST-MODIFIED:20230816T014010Z
UID:10001389-1692385200-1692392400@transsober.org
SUMMARY:Zine making workshop
DESCRIPTION:Zine making workshops. We have teamed up with the amazingly talented Az Franco to explore some of the deeper feelings we experience we have and channeling them through creative process. \nWorkshop dates:\nFriday 18th August 7-9pm\nFriday 1st September 7-9pm\nFriday 15th September  7-9pm \nFollow Az Franco on Instagram: https://www.instagram.com/youcancallmeaz \nShare this:
URL:https://transsober.org/event/zine-making-workshop/2023-08-18/
LOCATION:The Ledward Centre\, 14a Jubilee Street\, Brighton\, East Sussex\, BN1 1GE\, United Kingdom
ATTACH;FMTTYPE=image/jpeg:https://transsober.org/wp-content/uploads/2023/08/Event-banner-zine-workshops.jpg
ORGANIZER;CN="TransSober":MAILTO:info@transsober.org
END:VEVENT
BEGIN:VEVENT
DTSTART;TZID=Europe/London:20230423T140000
DTEND;TZID=Europe/London:20230423T170000
DTSTAMP:20260422T202805
CREATED:20230226T195421Z
LAST-MODIFIED:20230309T234034Z
UID:10000004-1682258400-1682269200@transsober.org
SUMMARY:Free banner and t-shirt making with Kumar (April)
DESCRIPTION:Kumar is hosting another TransSober Protest T-shirt and banner making free workshop. \nOpen to all form the TNBI community who would like some sober arty fun at The Ledward art gallery last Sunday of the month starting 26th February 2-5pm make your own or if you living drug and alcohol free be part on making the TransSober community banner. This is a free event\, all equipment is supplied\, or you can bring your own. Donations via our PayPal on website or cash on the day are very welcome to help support ongoing sober social events. \nShare this:
URL:https://transsober.org/event/free-banner-and-t-shirt-making-with-kumar-april/
LOCATION:The Ledward Centre\, 14a Jubilee Street\, Brighton\, East Sussex\, BN1 1GE\, United Kingdom
ATTACH;FMTTYPE=image/jpeg:https://transsober.org/wp-content/uploads/2023/02/Image-3-scaled.jpeg
ORGANIZER;CN="TransSober":MAILTO:info@transsober.org
END:VEVENT
BEGIN:VEVENT
DTSTART;TZID=Europe/London:20230326T140000
DTEND;TZID=Europe/London:20230326T170000
DTSTAMP:20260422T202805
CREATED:20230226T195725Z
LAST-MODIFIED:20230309T233946Z
UID:10000005-1679839200-1679850000@transsober.org
SUMMARY:Free banner and t-shirt making with Kumar (March)
DESCRIPTION:Kumar is hosting another TransSober Protest T-shirt and banner making free workshop. \nOpen to all form the TNBI community who would like some sober arty fun at The Ledward art gallery last Sunday of the month starting 26th February 2-5pm make your own or if you living drug and alcohol free be part on making the TransSober community banner. This is a free event\, all equipment is supplied\, or you can bring your own. Donations via our PayPal on website or cash on the day are very welcome to help support ongoing sober social events. \nShare this:
URL:https://transsober.org/event/free-banner-and-t-shirt-making-with-kumar-march/
LOCATION:The Ledward Centre\, 14a Jubilee Street\, Brighton\, East Sussex\, BN1 1GE\, United Kingdom
ATTACH;FMTTYPE=image/jpeg:https://transsober.org/wp-content/uploads/2023/02/Image-3-scaled.jpeg
ORGANIZER;CN="TransSober":MAILTO:info@transsober.org
END:VEVENT
BEGIN:VEVENT
DTSTART;TZID=Europe/London:20230226T140000
DTEND;TZID=Europe/London:20230226T170000
DTSTAMP:20260422T202805
CREATED:20230226T184025Z
LAST-MODIFIED:20230309T234119Z
UID:10000001-1677420000-1677430800@transsober.org
SUMMARY:Free banner and t-shirt making with Kumar (February)
DESCRIPTION:Kumar is hosting another TransSober Protest T-shirt and banner making free workshop. \nOpen to all form the TNBI community who would like some sober arty fun at The Ledward art gallery last Sunday of the month starting 26th February 2-5pm make your own or if you living drug and alcohol free be part on making the TransSober community banner. This is a free event\, all equipment is supplied\, or you can bring your own. Donations via our PayPal on website or cash on the day are very welcome to help support ongoing sober social events. \nShare this:
URL:https://transsober.org/event/free-banner-and-t-shirt-making-with-kumar-feb/
LOCATION:The Ledward Centre\, 14a Jubilee Street\, Brighton\, East Sussex\, BN1 1GE\, United Kingdom
ATTACH;FMTTYPE=image/jpeg:https://transsober.org/wp-content/uploads/2023/02/Image-3-scaled.jpeg
ORGANIZER;CN="TransSober":MAILTO:info@transsober.org
END:VEVENT
END:VCALENDAR